BEGIN:VCALENDAR
VERSION:2.0
PRODID:-//wp-events-plugin.com//6.6.4.4//EN
TZID:Europe/Vienna
X-WR-TIMEZONE:Europe/Vienna
BEGIN:VEVENT
UID:182@neweda.at
DTSTART;TZID=Europe/Vienna:20240609T160000
DTEND;TZID=Europe/Vienna:20240615T160000
DTSTAMP:20240607T190751Z
URL:https://www.neweda.at/events/wheel-of-life-training/
SUMMARY:Wheel of Life - Training
DESCRIPTION:Integrative Somatic Breathwork - Training\n\nThe new Cycle star
 ts in June 2024\n\nThere will be an "Introduction-Day" on March 17 2024.\n
 \nFind all information here: http://wheeloflife.eu/
CATEGORIES:Events International,Seminars and Workshops
LOCATION:Gasthof Flackl\, Hinterleiten 12\, 2651 Reichenau an der Rax\, Aus
 tria
GEO:47.6914895;15.827988199999936
X-APPLE-STRUCTURED-LOCATION;VALUE=URI;X-ADDRESS=Hinterleiten 12\, 2651 Reic
 henau an der Rax\, Austria;X-APPLE-RADIUS=100;X-TITLE=Gasthof Flackl:geo:4
 7.6914895,15.827988199999936
END:VEVENT
BEGIN:VTIMEZONE
TZID:Europe/Vienna
X-LIC-LOCATION:Europe/Vienna
BEGIN:DAYLIGHT
DTSTART:20240331T030000
TZOFFSETFROM:+0100
TZOFFSETTO:+0200
TZNAME:CEST
END:DAYLIGHT
END:VTIMEZONE
END:VCALENDAR