BEGIN:VCALENDAR
VERSION:2.0
PRODID:-//wp-events-plugin.com//6.6.4.4//EN
TZID:Europe/Vienna
X-WR-TIMEZONE:Europe/Vienna
BEGIN:VEVENT
UID:107@neweda.at
DTSTART;TZID=Europe/Vienna:20251004T100000
DTEND;TZID=Europe/Vienna:20251004T180000
DTSTAMP:20250724T180931Z
URL:https://www.neweda.at/events/constellation-on-the-medicine-wheel-with-
 horses/
SUMMARY:Constellation on the European Medicine wheel with horses
DESCRIPTION:\n\n\n\n&nbsp\;\n\nShamanic Constellation work is an old and de
 ep method to recognize higher coherences and to resolve blockages\n\nThe 3
 -Forces-Medicine wheel is a particular kind of an European Medicine- or Li
 fewheel based on the European 3-Forces-Shamanism.\nThe wheel is an image o
 f the universal order and the big pattern.\n\n\nEach of the 39 stones is c
 onnected to a special power and represents aspects of the world and of lif
 e.\n\nYou can look at personal situations but also at global events.\nWith
  this work you can clear situations\, recognize the cause of blocked energ
 ies\, restore the balance on all levels\, the physical\, emotional\, menta
 l and soul-level.\nYou reconnect with your own power and activate the forc
 e you need right now in your life to be supported.\n\nOn this day\, we wil
 l work individually on the wheel. It is a dynamic individual and group pro
 cess\, guided by the spiritual world and the ancestors.\n\n\n&nbsp\;\n\nHo
 rses are old healers. They are free around the wheel and show exactly what
  is needed and support the process with their presence on a really magical
  way.\n\n&nbsp\;\n\n&nbsp\;\n\nThe workshop will be held in a small group 
 of maximum 12 people.\n\nPrice: 150\,-- per person\n\nWorkshop language: e
 nglish (with translation in German\, French and Dutch if needed)\n\nFacili
 tator: KristaGilda Kerner (Austria)\nShaman and Trainer for Integrative So
 matic Breath- and Bodywork\n\nVenue: At Marianne Stas in Overijse (Belgium
 )\n\nRegister here\n\nInformation:\n+43 650 8343838\nkristagilda@neweda.at
 \n\n&nbsp\;\n\n
ATTACH;FMTTYPE=image/jpeg:https://www.neweda.at/wp-content/uploads/2018/02
 /Ease.jpg
CATEGORIES:Events International,Seminars and Workshops
LOCATION:Marianne Stas (Belgium)\, Overijse\, Overijse\, Belgium
GEO:50.77381;4.534750000000031
X-APPLE-STRUCTURED-LOCATION;VALUE=URI;X-ADDRESS=Overijse\, Overijse\, Belgi
 um;X-APPLE-RADIUS=100;X-TITLE=Marianne Stas (Belgium):geo:50.77381,4.53475
 0000000031
END:VEVENT
BEGIN:VTIMEZONE
TZID:Europe/Vienna
X-LIC-LOCATION:Europe/Vienna
BEGIN:DAYLIGHT
DTSTART:20250330T030000
TZOFFSETFROM:+0100
TZOFFSETTO:+0200
TZNAME:CEST
END:DAYLIGHT
END:VTIMEZONE
END:VCALENDAR